BEGIN:VCALENDAR
VERSION:2.0
PRODID:-//Uvdal - ECPv6.15.20//NONSGML v1.0//EN
CALSCALE:GREGORIAN
METHOD:PUBLISH
X-ORIGINAL-URL:https://uvdal.no
X-WR-CALDESC:Arrangement for Uvdal
REFRESH-INTERVAL;VALUE=DURATION:PT1H
X-Robots-Tag:noindex
X-PUBLISHED-TTL:PT1H
BEGIN:VTIMEZONE
TZID:Europe/Oslo
BEGIN:DAYLIGHT
TZOFFSETFROM:+0100
TZOFFSETTO:+0200
TZNAME:CEST
DTSTART:20220327T010000
END:DAYLIGHT
BEGIN:STANDARD
TZOFFSETFROM:+0200
TZOFFSETTO:+0100
TZNAME:CET
DTSTART:20221030T010000
END:STANDARD
BEGIN:DAYLIGHT
TZOFFSETFROM:+0100
TZOFFSETTO:+0200
TZNAME:CEST
DTSTART:20230326T010000
END:DAYLIGHT
BEGIN:STANDARD
TZOFFSETFROM:+0200
TZOFFSETTO:+0100
TZNAME:CET
DTSTART:20231029T010000
END:STANDARD
BEGIN:DAYLIGHT
TZOFFSETFROM:+0100
TZOFFSETTO:+0200
TZNAME:CEST
DTSTART:20240331T010000
END:DAYLIGHT
BEGIN:STANDARD
TZOFFSETFROM:+0200
TZOFFSETTO:+0100
TZNAME:CET
DTSTART:20241027T010000
END:STANDARD
END:VTIMEZONE
BEGIN:VEVENT
DTSTART;TZID=Europe/Oslo:20230323T190000
DTEND;TZID=Europe/Oslo:20230323T190000
DTSTAMP:20260425T224718
CREATED:20230127T082200Z
LAST-MODIFIED:20230127T082210Z
UID:5383-1679598000-1679598000@uvdal.no
SUMMARY:Numedal spel og dansarlag inviterer til sang-kafé
DESCRIPTION:Velkommen til bygdetunet! \nI år der det 100 år siden landslaget for spelemenn\, nå FolkOrg\, var stifta. Vårt lokallag\, Numedal spel og dansarlag\, inviterer til sang-kafé på bygdetunet med utgangspunkt i sangboka «Ord og tonar – folkesong i Numedal.\nKl. 19:00\nBli med å syng!\n• Ingen krav om forkunnskaper\n• Lavterskel\n• For alle!\nGratis inngang
URL:https://uvdal.no/arrangement/numedal-spel-og-dansarlag-inviterer-til-sang-kafe/
LOCATION:Nore og Uvdal Bygdetun\, Fv122\, Nore og Uvdal\, 3632\, Norge
ATTACH;FMTTYPE=image/jpeg:https://uvdal.no/wp-content/uploads/2023/01/Bygdetunet-i-vinterdrakt.jpg
END:VEVENT
END:VCALENDAR