BEGIN:VCALENDAR
VERSION:2.0
PRODID:-//Uvdal - ECPv6.15.20//NONSGML v1.0//EN
CALSCALE:GREGORIAN
METHOD:PUBLISH
X-WR-CALNAME:Uvdal
X-ORIGINAL-URL:https://uvdal.no
X-WR-CALDESC:Arrangement for Uvdal
REFRESH-INTERVAL;VALUE=DURATION:PT1H
X-Robots-Tag:noindex
X-PUBLISHED-TTL:PT1H
BEGIN:VTIMEZONE
TZID:Europe/Oslo
BEGIN:DAYLIGHT
TZOFFSETFROM:+0100
TZOFFSETTO:+0200
TZNAME:CEST
DTSTART:20220327T010000
END:DAYLIGHT
BEGIN:STANDARD
TZOFFSETFROM:+0200
TZOFFSETTO:+0100
TZNAME:CET
DTSTART:20221030T010000
END:STANDARD
BEGIN:DAYLIGHT
TZOFFSETFROM:+0100
TZOFFSETTO:+0200
TZNAME:CEST
DTSTART:20230326T010000
END:DAYLIGHT
BEGIN:STANDARD
TZOFFSETFROM:+0200
TZOFFSETTO:+0100
TZNAME:CET
DTSTART:20231029T010000
END:STANDARD
BEGIN:DAYLIGHT
TZOFFSETFROM:+0100
TZOFFSETTO:+0200
TZNAME:CEST
DTSTART:20240331T010000
END:DAYLIGHT
BEGIN:STANDARD
TZOFFSETFROM:+0200
TZOFFSETTO:+0100
TZNAME:CET
DTSTART:20241027T010000
END:STANDARD
END:VTIMEZONE
BEGIN:VEVENT
DTSTART;TZID=Europe/Oslo:20230314T180000
DTEND;TZID=Europe/Oslo:20230314T210000
DTSTAMP:20260425T210042
CREATED:20230306T143814Z
LAST-MODIFIED:20230306T151700Z
UID:6536-1678816800-1678827600@uvdal.no
SUMMARY:Åpent informasjonsmøte om utviklingen i Rødberg sentrum
DESCRIPTION:Nore og Uvdal kommune ønsker å informere om utviklingen i Rødberg sentrum.\n\nAgenda:\nSentrumsgate og uteområde kommunehuset\nFritidsparken\nBoligutvikling\nFlerbrukshus/folkebad\nMøteplasser\nEtterbruk Rødberghallen\, Bergtun og Bråflåttun.\n\nDet blir servert kaffe og kake til møte.\n\nSted: Rødberg hotell\, tirsdag 14 mars
URL:https://uvdal.no/arrangement/apent-informasjonsmote-om-utviklingen-i-rodberg-sentrum/
LOCATION:Rødberg hotell\, Rudisvingen 10\, Rødberg\, 3630\, Norge
ORGANIZER;CN="Nore og Uvdal kommune":MAILTO:post@nore-og-uvdal.kommune.no
END:VEVENT
END:VCALENDAR