BEGIN:VCALENDAR
VERSION:2.0
PRODID:-//Uvdal - ECPv6.15.20//NONSGML v1.0//EN
CALSCALE:GREGORIAN
METHOD:PUBLISH
X-ORIGINAL-URL:https://uvdal.no
X-WR-CALDESC:Arrangement for Uvdal
REFRESH-INTERVAL;VALUE=DURATION:PT1H
X-Robots-Tag:noindex
X-PUBLISHED-TTL:PT1H
BEGIN:VTIMEZONE
TZID:Europe/Oslo
BEGIN:DAYLIGHT
TZOFFSETFROM:+0100
TZOFFSETTO:+0200
TZNAME:CEST
DTSTART:20220327T010000
END:DAYLIGHT
BEGIN:STANDARD
TZOFFSETFROM:+0200
TZOFFSETTO:+0100
TZNAME:CET
DTSTART:20221030T010000
END:STANDARD
BEGIN:DAYLIGHT
TZOFFSETFROM:+0100
TZOFFSETTO:+0200
TZNAME:CEST
DTSTART:20230326T010000
END:DAYLIGHT
BEGIN:STANDARD
TZOFFSETFROM:+0200
TZOFFSETTO:+0100
TZNAME:CET
DTSTART:20231029T010000
END:STANDARD
BEGIN:DAYLIGHT
TZOFFSETFROM:+0100
TZOFFSETTO:+0200
TZNAME:CEST
DTSTART:20240331T010000
END:DAYLIGHT
BEGIN:STANDARD
TZOFFSETFROM:+0200
TZOFFSETTO:+0100
TZNAME:CET
DTSTART:20241027T010000
END:STANDARD
END:VTIMEZONE
BEGIN:VEVENT
DTSTART;VALUE=DATE:20230303
DTEND;VALUE=DATE:20230306
DTSTAMP:20260425T224833
CREATED:20230208T092557Z
LAST-MODIFIED:20230208T092557Z
UID:5740-1677801600-1678060799@uvdal.no
SUMMARY:Monoski Landstreff I Uvdal Skisenter
DESCRIPTION:Norges Monoskiforening inviterer alle der ute som enten har monoski eller får skaffet seg en til treff i Uvdal lørdag 03-05.mars!\n\nHelgen blir fylt med historier og hygge\, monoski og afterski.\nAlle er velkommen\, bare du har en monoski på beina.\nPå dagen blir det cruising rundt i Uvdals bakker\, gruppebilder og formasjonskjøring.\n\nProgram: Monoski Landstreff\, Uvdal 04.mars 2023.\nFredag blir det gallamiddag i Snowboardmuseet kl 20.00. Det blir cateringmat fra Vasstulan1100 og åpen bar. Her blir det utdeling av Gull-Mono\, taler\, kåringer og sang i kjent stil før vi drar opp i Lavvoen.\nLørdag har vi oppmøte på bunnstasjon kl 11.00. Så cruiser vi i bakken og hygger oss tett etterfulgt av afterski i Lavvoen. Vi får servert litt enkel bespisning i 2.etg på lavvoen under afterskien\, så vi holder ut hele kvelden.\n«Monopakka» koster kr 2400\,- og inneholder:\n– Overnatting i leiligheter i skisenteret\n– Heiskort lørdag og søndag\n– Gallamiddag fredag\n– Enkel bespisning i Lavvoen lørdag\n«Mono&Mat» koster kr 650\,- og inneholder:\n– Gallamiddag fredag\n– Enkel bespisning i Lavoen lørdag\n\nPåmelding:\nSend følgende informasjon til snowboardtrener@gmail.com\nMONOSKI LANDSTREFF!\nNavn:\nMonopakka eller Mono&Mat:\nBo med:\n\nVelkommen!
URL:https://uvdal.no/arrangement/monoski-landstreff-i-uvdal-skisenter/
LOCATION:Uvdal Skisenter\, Uvdal\, 3632\, Norge
ATTACH;FMTTYPE=image/jpeg:https://uvdal.no/wp-content/uploads/2023/02/Monoski-landstreff-2023.jpg
END:VEVENT
END:VCALENDAR