BEGIN:VCALENDAR
VERSION:2.0
PRODID:-//Uvdal - ECPv6.15.20//NONSGML v1.0//EN
CALSCALE:GREGORIAN
METHOD:PUBLISH
X-WR-CALNAME:Uvdal
X-ORIGINAL-URL:https://uvdal.no
X-WR-CALDESC:Arrangement for Uvdal
REFRESH-INTERVAL;VALUE=DURATION:PT1H
X-Robots-Tag:noindex
X-PUBLISHED-TTL:PT1H
BEGIN:VTIMEZONE
TZID:Europe/Oslo
BEGIN:DAYLIGHT
TZOFFSETFROM:+0100
TZOFFSETTO:+0200
TZNAME:CEST
DTSTART:20220327T010000
END:DAYLIGHT
BEGIN:STANDARD
TZOFFSETFROM:+0200
TZOFFSETTO:+0100
TZNAME:CET
DTSTART:20221030T010000
END:STANDARD
BEGIN:DAYLIGHT
TZOFFSETFROM:+0100
TZOFFSETTO:+0200
TZNAME:CEST
DTSTART:20230326T010000
END:DAYLIGHT
BEGIN:STANDARD
TZOFFSETFROM:+0200
TZOFFSETTO:+0100
TZNAME:CET
DTSTART:20231029T010000
END:STANDARD
BEGIN:DAYLIGHT
TZOFFSETFROM:+0100
TZOFFSETTO:+0200
TZNAME:CEST
DTSTART:20240331T010000
END:DAYLIGHT
BEGIN:STANDARD
TZOFFSETFROM:+0200
TZOFFSETTO:+0100
TZNAME:CET
DTSTART:20241027T010000
END:STANDARD
END:VTIMEZONE
BEGIN:VEVENT
DTSTART;VALUE=DATE:20230225
DTEND;VALUE=DATE:20230226
DTSTAMP:20260426T000140
CREATED:20230222T123421Z
LAST-MODIFIED:20230222T142221Z
UID:6103-1677283200-1677369599@uvdal.no
SUMMARY:DEN STORE PRIMKOKEDAGEN PÅ TEIGEN
DESCRIPTION:  \n\nDenne uka avslutter melkesessongen for kyra på gården her. Nå skal de få ha pause fra melkemaskinen frem til kalving i mai. Som så ofte før om årene\, bruker jeg den siste melka til prim/brunost.\n\n\n\nVIL DU/DERE VÆRE MED PÅ PROSSESSEN? RØRE I KJELEN\, SMAKE PÅ PRIMEN NÅR DEN NÆRMER SEG FERDIG.\n\n\n\nJeg blir stående gjennom hele lørdagen med å koke ned melka (mysen) Koker på vedfyrt ovn utendørs. 80 liter myse skal bli til +- 8 kg prim/brunost.\nPå formiddagen blir det mest røring. Det skjer ikke noe særlig med primen før utpå dag litt\, men da skjer det desto mer. Varm prim er bare nydelig!\n\n\nVi tenner og opp i bålpanna\, så mulighet for å grille pølser\, epler og pinnebrød.\nKjenner jeg Simen rett\, finner han frem popcornkjelen og det blir bålpoppet popcorn til alle.\nKaffekjelen er og selvfølgelig på plass på bålet.\n\n\nAkebakke skal vi få til\, og det er mulighet for å hilse på dyra\nkyr\, hester\, geiter\, kaniner og mange små kyllinger. Bikkjene kommer til å vimse rundt her.\n\n\n\nVELKOMMEN ALLE SOM HAR LYST TIL Å KOMME\n\nGi meg gjerne et hint\, hvis dere kommer\, så jeg vet hvor mye pinnebrøddeig jeg skal lage i stand\n\n\nDet blir mulighet for å kjøpe nykokt prim når den er ferdig\n\n\n\nVetterhusgrendvegen 226 – Nore\nAnne Beate t. 91382808
URL:https://uvdal.no/arrangement/den-store-primkokedagen-pa-teigen/
LOCATION:Teigen gård\, Nore\, Søre Teigen gård
ATTACH;FMTTYPE=image/jpeg:https://uvdal.no/wp-content/uploads/2023/02/Primkoking-Anne-Beate-Rye-Teigen.jpg
END:VEVENT
BEGIN:VEVENT
DTSTART;VALUE=DATE:20230225
DTEND;VALUE=DATE:20230227
DTSTAMP:20260426T000140
CREATED:20221202T074823Z
LAST-MODIFIED:20221202T074823Z
UID:4736-1677283200-1677455999@uvdal.no
SUMMARY:Vottehelg på Vasstulan1100
DESCRIPTION:Lær og lag fine votter på Vasstulan 1100 \nHold av helgen 25 og 26 februar 2023. \nMer info og påmelding kommer første uka i januar her \n 
URL:https://uvdal.no/arrangement/vottehelg-pa-vasstulan1100/
LOCATION:Vasstulan 1100\, Vasstulan 46\, Uvdal\, 3632\, Norge
ATTACH;FMTTYPE=image/jpeg:https://uvdal.no/wp-content/uploads/2022/12/Vottehelg-1.jpg
ORGANIZER;CN="Vasstulan 1100":MAILTO:bestilling@vasstulan.no
END:VEVENT
END:VCALENDAR