BEGIN:VCALENDAR
VERSION:2.0
PRODID:-//Uvdal - ECPv6.15.20//NONSGML v1.0//EN
CALSCALE:GREGORIAN
METHOD:PUBLISH
X-ORIGINAL-URL:https://uvdal.no
X-WR-CALDESC:Arrangement for Uvdal
REFRESH-INTERVAL;VALUE=DURATION:PT1H
X-Robots-Tag:noindex
X-PUBLISHED-TTL:PT1H
BEGIN:VTIMEZONE
TZID:Europe/Oslo
BEGIN:DAYLIGHT
TZOFFSETFROM:+0100
TZOFFSETTO:+0200
TZNAME:CEST
DTSTART:20220327T010000
END:DAYLIGHT
BEGIN:STANDARD
TZOFFSETFROM:+0200
TZOFFSETTO:+0100
TZNAME:CET
DTSTART:20221030T010000
END:STANDARD
BEGIN:DAYLIGHT
TZOFFSETFROM:+0100
TZOFFSETTO:+0200
TZNAME:CEST
DTSTART:20230326T010000
END:DAYLIGHT
BEGIN:STANDARD
TZOFFSETFROM:+0200
TZOFFSETTO:+0100
TZNAME:CET
DTSTART:20231029T010000
END:STANDARD
BEGIN:DAYLIGHT
TZOFFSETFROM:+0100
TZOFFSETTO:+0200
TZNAME:CEST
DTSTART:20240331T010000
END:DAYLIGHT
BEGIN:STANDARD
TZOFFSETFROM:+0200
TZOFFSETTO:+0100
TZNAME:CET
DTSTART:20241027T010000
END:STANDARD
END:VTIMEZONE
BEGIN:VEVENT
DTSTART;TZID=Europe/Oslo:20230223T190000
DTEND;TZID=Europe/Oslo:20230223T190000
DTSTAMP:20260426T000531
CREATED:20230127T081927Z
LAST-MODIFIED:20230127T081937Z
UID:5378-1677178800-1677178800@uvdal.no
SUMMARY:Sølvfunnet\, Bergstaden og Numedal\, - Et grunnriss av to gode naboers bergverkshistorie
DESCRIPTION:Velkommen til Nore og Uvdal bygdetun! \nI 2023 er det 400 års jubileum for sølvfunnet på Kongsberg. Vi får besøk av Bjørnar Sandvold fra Norsk Bergverksmuseum. \nInngang kr. 50 \n 
URL:https://uvdal.no/arrangement/solvfunnet-bergstaden-og-numedal-et-grunnriss-av-to-gode-naboers-bergverkshistorie/
LOCATION:Nore og Uvdal Bygdetun\, Fv122\, Nore og Uvdal\, 3632\, Norge
ATTACH;FMTTYPE=image/jpeg:https://uvdal.no/wp-content/uploads/2023/01/Bygdetunet-i-vinterdrakt.jpg
END:VEVENT
END:VCALENDAR