BEGIN:VCALENDAR
VERSION:2.0
PRODID:-//Uvdal - ECPv6.15.20//NONSGML v1.0//EN
CALSCALE:GREGORIAN
METHOD:PUBLISH
X-WR-CALNAME:Uvdal
X-ORIGINAL-URL:https://uvdal.no
X-WR-CALDESC:Arrangement for Uvdal
REFRESH-INTERVAL;VALUE=DURATION:PT1H
X-Robots-Tag:noindex
X-PUBLISHED-TTL:PT1H
BEGIN:VTIMEZONE
TZID:Europe/Oslo
BEGIN:DAYLIGHT
TZOFFSETFROM:+0100
TZOFFSETTO:+0200
TZNAME:CEST
DTSTART:20220327T010000
END:DAYLIGHT
BEGIN:STANDARD
TZOFFSETFROM:+0200
TZOFFSETTO:+0100
TZNAME:CET
DTSTART:20221030T010000
END:STANDARD
BEGIN:DAYLIGHT
TZOFFSETFROM:+0100
TZOFFSETTO:+0200
TZNAME:CEST
DTSTART:20230326T010000
END:DAYLIGHT
BEGIN:STANDARD
TZOFFSETFROM:+0200
TZOFFSETTO:+0100
TZNAME:CET
DTSTART:20231029T010000
END:STANDARD
BEGIN:DAYLIGHT
TZOFFSETFROM:+0100
TZOFFSETTO:+0200
TZNAME:CEST
DTSTART:20240331T010000
END:DAYLIGHT
BEGIN:STANDARD
TZOFFSETFROM:+0200
TZOFFSETTO:+0100
TZNAME:CET
DTSTART:20241027T010000
END:STANDARD
END:VTIMEZONE
BEGIN:VEVENT
DTSTART;TZID=Europe/Oslo:20230219T170000
DTEND;TZID=Europe/Oslo:20230219T170000
DTSTAMP:20260426T000116
CREATED:20230216T125402Z
LAST-MODIFIED:20230216T125411Z
UID:5899-1676826000-1676826000@uvdal.no
SUMMARY:Gospelgudstjeneste i Nore kirke
DESCRIPTION:Vi ønsker velkommen til gospelgudstjeneste for hele Numedal i Nore kirke kl. 17 søndag 19.februar! \n 
URL:https://uvdal.no/arrangement/gospelgudstjeneste-i-nore-kirke/
LOCATION:Nore kirke
ORGANIZER;CN="Menighetene Nore%2C Uvdal og Tunhovd":MAILTO:kirkekontoret@nore.kirken.no
END:VEVENT
END:VCALENDAR