BEGIN:VCALENDAR
VERSION:2.0
PRODID:-//Uvdal - ECPv6.15.20//NONSGML v1.0//EN
CALSCALE:GREGORIAN
METHOD:PUBLISH
X-WR-CALNAME:Uvdal
X-ORIGINAL-URL:https://uvdal.no
X-WR-CALDESC:Arrangement for Uvdal
REFRESH-INTERVAL;VALUE=DURATION:PT1H
X-Robots-Tag:noindex
X-PUBLISHED-TTL:PT1H
BEGIN:VTIMEZONE
TZID:Europe/Oslo
BEGIN:DAYLIGHT
TZOFFSETFROM:+0100
TZOFFSETTO:+0200
TZNAME:CEST
DTSTART:20220327T010000
END:DAYLIGHT
BEGIN:STANDARD
TZOFFSETFROM:+0200
TZOFFSETTO:+0100
TZNAME:CET
DTSTART:20221030T010000
END:STANDARD
BEGIN:DAYLIGHT
TZOFFSETFROM:+0100
TZOFFSETTO:+0200
TZNAME:CEST
DTSTART:20230326T010000
END:DAYLIGHT
BEGIN:STANDARD
TZOFFSETFROM:+0200
TZOFFSETTO:+0100
TZNAME:CET
DTSTART:20231029T010000
END:STANDARD
BEGIN:DAYLIGHT
TZOFFSETFROM:+0100
TZOFFSETTO:+0200
TZNAME:CEST
DTSTART:20240331T010000
END:DAYLIGHT
BEGIN:STANDARD
TZOFFSETFROM:+0200
TZOFFSETTO:+0100
TZNAME:CET
DTSTART:20241027T010000
END:STANDARD
END:VTIMEZONE
BEGIN:VEVENT
DTSTART;TZID=Europe/Oslo:20230126T180000
DTEND;TZID=Europe/Oslo:20230126T180000
DTSTAMP:20260426T013317
CREATED:20230118T145303Z
LAST-MODIFIED:20230118T145424Z
UID:5302-1674756000-1674756000@uvdal.no
SUMMARY:Den gnistrende gaveåpningen
DESCRIPTION:På tapaskvelden 04.01.23 fikk alle kvinner i Nore og Uvdal industribygget på Rødberg i gave fra kommunen.\nVi ønsker alle kvinner i Nore og Uvdal velkommen til en felles gnistrende åpning av mulighetenes gave!\nHva skal bygget hete?\nHva ønsker vi å få til her?\n\nVelkommen til en trivelig og uhøytidelig kveld!\n 
URL:https://uvdal.no/arrangement/den-gnistrende-gaveapningen/
LOCATION:Industribygget\, sentrum Rødberg
ATTACH;FMTTYPE=image/jpeg:https://uvdal.no/wp-content/uploads/2023/01/Den-gnistrende-gaveapningen-1.jpg
END:VEVENT
END:VCALENDAR