BEGIN:VCALENDAR
VERSION:2.0
PRODID:-//Uvdal - ECPv6.15.20//NONSGML v1.0//EN
CALSCALE:GREGORIAN
METHOD:PUBLISH
X-ORIGINAL-URL:https://uvdal.no
X-WR-CALDESC:Arrangement for Uvdal
REFRESH-INTERVAL;VALUE=DURATION:PT1H
X-Robots-Tag:noindex
X-PUBLISHED-TTL:PT1H
BEGIN:VTIMEZONE
TZID:Europe/Oslo
BEGIN:DAYLIGHT
TZOFFSETFROM:+0100
TZOFFSETTO:+0200
TZNAME:CEST
DTSTART:20220327T010000
END:DAYLIGHT
BEGIN:STANDARD
TZOFFSETFROM:+0200
TZOFFSETTO:+0100
TZNAME:CET
DTSTART:20221030T010000
END:STANDARD
BEGIN:DAYLIGHT
TZOFFSETFROM:+0100
TZOFFSETTO:+0200
TZNAME:CEST
DTSTART:20230326T010000
END:DAYLIGHT
BEGIN:STANDARD
TZOFFSETFROM:+0200
TZOFFSETTO:+0100
TZNAME:CET
DTSTART:20231029T010000
END:STANDARD
BEGIN:DAYLIGHT
TZOFFSETFROM:+0100
TZOFFSETTO:+0200
TZNAME:CEST
DTSTART:20240331T010000
END:DAYLIGHT
BEGIN:STANDARD
TZOFFSETFROM:+0200
TZOFFSETTO:+0100
TZNAME:CET
DTSTART:20241027T010000
END:STANDARD
END:VTIMEZONE
BEGIN:VEVENT
DTSTART;TZID=Europe/Oslo:20230121T190000
DTEND;TZID=Europe/Oslo:20230121T203000
DTSTAMP:20260426T013113
CREATED:20230110T112623Z
LAST-MODIFIED:20230110T113102Z
UID:5233-1674327600-1674333000@uvdal.no
SUMMARY:Drolsum Stasjon på Rødberg for første gang!
DESCRIPTION:Bandet Drolsum Stasjon med konsert på Rødberg bibliotek.\n\nVi gleder oss til å besøke vår bassist Bjørn Wiggo Engens hjemsted og ser frem til å levere en heidundranes konsert for hans sambygdinger!\n\nDørene åpner kl. 18:30\nKonsertstart kl. 19:00\n\nBilletter kan kjøpes her \n\nSted: Rødberg bibliotek
URL:https://uvdal.no/arrangement/drolsum-stasjon-pa-rodberg-for-forste-gang/
LOCATION:Rødberg bibliotek\, Syljerudvegen 5\, Rødberg\, 3630
ATTACH;FMTTYPE=image/jpeg:https://uvdal.no/wp-content/uploads/2023/01/Droslum-konsert.jpg
END:VEVENT
END:VCALENDAR