BEGIN:VCALENDAR
VERSION:2.0
PRODID:-//Uvdal - ECPv6.15.20//NONSGML v1.0//EN
CALSCALE:GREGORIAN
METHOD:PUBLISH
X-ORIGINAL-URL:https://uvdal.no
X-WR-CALDESC:Arrangement for Uvdal
REFRESH-INTERVAL;VALUE=DURATION:PT1H
X-Robots-Tag:noindex
X-PUBLISHED-TTL:PT1H
BEGIN:VTIMEZONE
TZID:Europe/Oslo
BEGIN:DAYLIGHT
TZOFFSETFROM:+0100
TZOFFSETTO:+0200
TZNAME:CEST
DTSTART:20210328T010000
END:DAYLIGHT
BEGIN:STANDARD
TZOFFSETFROM:+0200
TZOFFSETTO:+0100
TZNAME:CET
DTSTART:20211031T010000
END:STANDARD
BEGIN:DAYLIGHT
TZOFFSETFROM:+0100
TZOFFSETTO:+0200
TZNAME:CEST
DTSTART:20220327T010000
END:DAYLIGHT
BEGIN:STANDARD
TZOFFSETFROM:+0200
TZOFFSETTO:+0100
TZNAME:CET
DTSTART:20221030T010000
END:STANDARD
BEGIN:DAYLIGHT
TZOFFSETFROM:+0100
TZOFFSETTO:+0200
TZNAME:CEST
DTSTART:20230326T010000
END:DAYLIGHT
BEGIN:STANDARD
TZOFFSETFROM:+0200
TZOFFSETTO:+0100
TZNAME:CET
DTSTART:20231029T010000
END:STANDARD
END:VTIMEZONE
BEGIN:VEVENT
DTSTART;TZID=Europe/Oslo:20221227T180000
DTEND;TZID=Europe/Oslo:20221227T200000
DTSTAMP:20260426T013116
CREATED:20221111T080214Z
LAST-MODIFIED:20221111T080300Z
UID:4351-1672164000-1672171200@uvdal.no
SUMMARY:3 retters meny med Vasstulan1100
DESCRIPTION:Passer for alle enten det er familien eller vennegjengen som vil ut å spise en bedre middag.\nPris kr. 450\,- (1/2 pris 6-12 år)\nBordbestilling: jorun@vasstulan.no
URL:https://uvdal.no/arrangement/3-retters-meny-med-vasstulan1100/
LOCATION:Vasstulan 1100\, Vasstulan 46\, Uvdal\, 3632\, Norge
ATTACH;FMTTYPE=image/jpeg:https://uvdal.no/wp-content/uploads/2022/11/Arrangement-med-mat-i-romjulen.jpg
ORGANIZER;CN="Vasstulan 1100":MAILTO:bestilling@vasstulan.no
END:VEVENT
BEGIN:VEVENT
DTSTART;TZID=Europe/Oslo:20221227T190000
DTEND;TZID=Europe/Oslo:20221227T190000
DTSTAMP:20260426T013116
CREATED:20221213T091525Z
LAST-MODIFIED:20221213T101749Z
UID:4865-1672167600-1672167600@uvdal.no
SUMMARY:Rakfisklag Uvdal Skisenter
DESCRIPTION:Vidda Vilt inviterer igjen til rakfisklag i Uvdal Skisenter 27/12-22.\n\nDet serveres rakfisk fra to lokale produsenter.\n\n\n\nPåmelding til rakfisklag 27/12 i Uvdal Skisenter.\n\n\nVipps nr: 648716\nPris: 495kr\n\n\nMerk innbetalingen med navn om det meldes på flere samtidig.
URL:https://uvdal.no/arrangement/rakfisklag-uvdal-skisenter/
LOCATION:Uvdal Skisenter\, Uvdal\, 3632\, Norge
ATTACH;FMTTYPE=image/jpeg:https://uvdal.no/wp-content/uploads/2022/12/Rakfisklag-i-Uvdal-Skisenter.jpg
ORGANIZER;CN="Villreinfestivalen":MAILTO:post@villreinfestivalen.no
END:VEVENT
BEGIN:VEVENT
DTSTART;TZID=Europe/Oslo:20221227T190000
DTEND;TZID=Europe/Oslo:20221227T210000
DTSTAMP:20260426T013116
CREATED:20221202T123233Z
LAST-MODIFIED:20221202T123424Z
UID:4764-1672167600-1672174800@uvdal.no
SUMMARY:Romjulstreffet på Rødberg hotell
DESCRIPTION:Hvordan jobber Nore og Uvdal kommune med bolyst?\n\nLokal ungdom deler erfaringer om å flytte hjem\, og ungdommer som bor og studerer utenfor kommunen deler sine tanker om å komme hjem igjen.\nBygdeutvikler Lars Granhaug informerer om kommunens arbeid med bolyst og lokale bedrifter presenterer seg.
URL:https://uvdal.no/arrangement/romjulstreffet-pa-rodberg-hotell/
LOCATION:Rødberg hotell\, Rudisvingen 10\, Rødberg\, 3630\, Norge
ATTACH;FMTTYPE=image/jpeg:https://uvdal.no/wp-content/uploads/2022/12/Romjulstreff-om-bolyst-i-Nore-og-Uvdal.jpg
ORGANIZER;CN="Nore og Uvdal kommune":MAILTO:post@nore-og-uvdal.kommune.no
END:VEVENT
END:VCALENDAR