BEGIN:VCALENDAR
VERSION:2.0
PRODID:-//Uvdal - ECPv6.15.20//NONSGML v1.0//EN
CALSCALE:GREGORIAN
METHOD:PUBLISH
X-WR-CALNAME:Uvdal
X-ORIGINAL-URL:https://uvdal.no
X-WR-CALDESC:Arrangement for Uvdal
REFRESH-INTERVAL;VALUE=DURATION:PT1H
X-Robots-Tag:noindex
X-PUBLISHED-TTL:PT1H
BEGIN:VTIMEZONE
TZID:Europe/Oslo
BEGIN:DAYLIGHT
TZOFFSETFROM:+0100
TZOFFSETTO:+0200
TZNAME:CEST
DTSTART:20210328T010000
END:DAYLIGHT
BEGIN:STANDARD
TZOFFSETFROM:+0200
TZOFFSETTO:+0100
TZNAME:CET
DTSTART:20211031T010000
END:STANDARD
BEGIN:DAYLIGHT
TZOFFSETFROM:+0100
TZOFFSETTO:+0200
TZNAME:CEST
DTSTART:20220327T010000
END:DAYLIGHT
BEGIN:STANDARD
TZOFFSETFROM:+0200
TZOFFSETTO:+0100
TZNAME:CET
DTSTART:20221030T010000
END:STANDARD
BEGIN:DAYLIGHT
TZOFFSETFROM:+0100
TZOFFSETTO:+0200
TZNAME:CEST
DTSTART:20230326T010000
END:DAYLIGHT
BEGIN:STANDARD
TZOFFSETFROM:+0200
TZOFFSETTO:+0100
TZNAME:CET
DTSTART:20231029T010000
END:STANDARD
END:VTIMEZONE
BEGIN:VEVENT
DTSTART;TZID=Europe/Oslo:20221224T130000
DTEND;TZID=Europe/Oslo:20221224T130000
DTSTAMP:20260426T031249
CREATED:20221114T124507Z
LAST-MODIFIED:20221114T124507Z
UID:4413-1671886800-1671886800@uvdal.no
SUMMARY:Julaftensgudstjeneste
DESCRIPTION:Julaften 24 desember \nSkjønne kirke kl. 13.00: \nKirketjener: Tom Erik Olsen\nKirkevert: Heidi Fedje\nPrest: Kristine Bekken Aschim\nDag i kirkeåret: Julaften\nOffer til: Kirkens Nødhjelp \n 
URL:https://uvdal.no/arrangement/julaftensgudstjeneste/
LOCATION:Skjønne kirke
ATTACH;FMTTYPE=image/jpeg:https://uvdal.no/wp-content/uploads/2022/11/Skjonne_kirke_Kirkerommet_fremre.jpg
ORGANIZER;CN="Menighetene Nore%2C Uvdal og Tunhovd":MAILTO:kirkekontoret@nore.kirken.no
END:VEVENT
BEGIN:VEVENT
DTSTART;TZID=Europe/Oslo:20221224T130000
DTEND;TZID=Europe/Oslo:20221224T130000
DTSTAMP:20260426T031249
CREATED:20221114T124934Z
LAST-MODIFIED:20221114T124941Z
UID:4419-1671886800-1671886800@uvdal.no
SUMMARY:Julaftensgudstjeneste
DESCRIPTION:Julaften \nTid: 24.12 kl. 13:00\nSted: Tunhovd kirke\nKirketjener: Frøydis Haga\nKirkevert: Regine Levorsen\nOrganist: Hilde Tandberg\nPrest: Trond Morlandstø \nOffer til: Kirkens Nødhjelp
URL:https://uvdal.no/arrangement/julaftensgudstjeneste-2/
LOCATION:Tunhovd kirke
ATTACH;FMTTYPE=image/jpeg:https://uvdal.no/wp-content/uploads/2022/11/Tunhovd-kirke-vinter.jpg
ORGANIZER;CN="Menighetene Nore%2C Uvdal og Tunhovd":MAILTO:kirkekontoret@nore.kirken.no
END:VEVENT
BEGIN:VEVENT
DTSTART;TZID=Europe/Oslo:20221224T150000
DTEND;TZID=Europe/Oslo:20221224T150000
DTSTAMP:20260426T031249
CREATED:20221114T125459Z
LAST-MODIFIED:20221114T125459Z
UID:4424-1671894000-1671894000@uvdal.no
SUMMARY:Julaftensgudstjeneste
DESCRIPTION:Julaften \nTid: 24.12 kl. 15:00\nSted: Nore kirke\nKirketjener: Olav Skarpås\nKirkevert: Helge O Gundersen\nPrest: Kristine Bekken Aschim \nOffer til: Kirkens Nødhjelp
URL:https://uvdal.no/arrangement/julaftensgudstjeneste-3/
LOCATION:Nore kirke
ATTACH;FMTTYPE=image/jpeg:https://uvdal.no/wp-content/uploads/2022/11/Vare-kirker-til-jul.jpg
ORGANIZER;CN="Menighetene Nore%2C Uvdal og Tunhovd":MAILTO:kirkekontoret@nore.kirken.no
END:VEVENT
BEGIN:VEVENT
DTSTART;TZID=Europe/Oslo:20221224T150000
DTEND;TZID=Europe/Oslo:20221224T150000
DTSTAMP:20260426T031249
CREATED:20221114T125739Z
LAST-MODIFIED:20221114T125927Z
UID:4429-1671894000-1671894000@uvdal.no
SUMMARY:Julaftensgudstjeneste
DESCRIPTION:Julaften \nTid: 24.12 kl. 15:00\nSted: Uvdal kirke \nKirketjener: Bjørn Wiggo Engen\nKirkevert: Grete Enerstvedt\nOrganist: Hilde Tandberg\nPrest: Trond Morlandstø \nOffer til: Kirkens Nødhjelp
URL:https://uvdal.no/arrangement/julaftensgudstjeneste-4/
LOCATION:Uvdal kirke
ATTACH;FMTTYPE=image/jpeg:https://uvdal.no/wp-content/uploads/2022/11/Uvdal-kirke-vinter-1.jpg
ORGANIZER;CN="Menighetene Nore%2C Uvdal og Tunhovd":MAILTO:kirkekontoret@nore.kirken.no
END:VEVENT
END:VCALENDAR