BEGIN:VCALENDAR
VERSION:2.0
PRODID:-//Uvdal - ECPv6.15.20//NONSGML v1.0//EN
CALSCALE:GREGORIAN
METHOD:PUBLISH
X-ORIGINAL-URL:https://uvdal.no
X-WR-CALDESC:Arrangement for Uvdal
REFRESH-INTERVAL;VALUE=DURATION:PT1H
X-Robots-Tag:noindex
X-PUBLISHED-TTL:PT1H
BEGIN:VTIMEZONE
TZID:Europe/Oslo
BEGIN:DAYLIGHT
TZOFFSETFROM:+0100
TZOFFSETTO:+0200
TZNAME:CEST
DTSTART:20210328T010000
END:DAYLIGHT
BEGIN:STANDARD
TZOFFSETFROM:+0200
TZOFFSETTO:+0100
TZNAME:CET
DTSTART:20211031T010000
END:STANDARD
BEGIN:DAYLIGHT
TZOFFSETFROM:+0100
TZOFFSETTO:+0200
TZNAME:CEST
DTSTART:20220327T010000
END:DAYLIGHT
BEGIN:STANDARD
TZOFFSETFROM:+0200
TZOFFSETTO:+0100
TZNAME:CET
DTSTART:20221030T010000
END:STANDARD
BEGIN:DAYLIGHT
TZOFFSETFROM:+0100
TZOFFSETTO:+0200
TZNAME:CEST
DTSTART:20230326T010000
END:DAYLIGHT
BEGIN:STANDARD
TZOFFSETFROM:+0200
TZOFFSETTO:+0100
TZNAME:CET
DTSTART:20231029T010000
END:STANDARD
END:VTIMEZONE
BEGIN:VEVENT
DTSTART;VALUE=DATE:20221216
DTEND;VALUE=DATE:20221219
DTSTAMP:20260426T031534
CREATED:20221213T123717Z
LAST-MODIFIED:20221213T133251Z
UID:4888-1671148800-1671407999@uvdal.no
SUMMARY:Har du lyst til å gjøre noe for andre i jula?
DESCRIPTION:  \n\nHelgen 16. – 18. desember inviterer Langedrag Fattighuset i Oslo og Maritastiftelsen til en julehelg på gården.\n\nSøndagen har vi invitert ca. 100 flyktninger bosatt i egen kommune på dagsbesøk.\n\nLangedrag stiller stedet til disposisjon og vi er en gjeng ansatte på gården + andre frivillige som disse dagene vil legge til rette for noen flotte juledager.\nDette klarer vi imidlertid ikke helt alene\, vi er avhengig av å kunne samle inn midler så vi har til transport (buss settes opp fra Oslo)\, mat\, sengetøy\, julegodterier og kanskje noen julegaver.\nDette er åttende året hvor Langedrag inviterer\, og dette har vært en stor suksess. Med hjelp av mange gode sponsorer har de klart å glede mange.\n\n”Vi på Langedrag” har bygget opp en tradisjon hvor vi arrangerer en førjulsdag med nissespill og julegrøt på låven. Juleshow oppvisning hadde vi 3.desember i år. Dette var med dyrene våre\, omvisning i parken\, etc. Inngangspengene fra denne dagen går også til dette formålet.\n\n\n\nØnsker du å bidra? Send en mail til annegrete@langedrag.no.\n\nVi har også opprettet en egen konto hvor man har muligheter til å sette inn et gavebeløp.\n\nVi tar også gjerne i mot andre bidrag som mat og drikke\, julegodterier etc. Det er også mulig å hjelpe til som\nfrivillig under arrangementet.\n\nEventuelt overskudd går til neste års engasjement for å kunne glede flere!\n\nHjelp oss å hjelpe! Vippsnr 502212 (juleinnsamling)
URL:https://uvdal.no/arrangement/har-du-lyst-til-a-gjore-noe-for-andre-i-jula/
LOCATION:Langedrag Naturpark\, Tunhovd\, 3544
ATTACH;FMTTYPE=image/jpeg:https://uvdal.no/wp-content/uploads/2022/10/langedrag-1-scaled.jpg
ORGANIZER;CN="Langedrag Naturpark":MAILTO:post@langedrag.no
END:VEVENT
BEGIN:VEVENT
DTSTART;TZID=Europe/Oslo:20221216T190000
DTEND;TZID=Europe/Oslo:20221216T190000
DTSTAMP:20260426T031534
CREATED:20221213T091009Z
LAST-MODIFIED:20221213T091102Z
UID:4860-1671217200-1671217200@uvdal.no
SUMMARY:Julequiz på Nordstjerna Grendehus
DESCRIPTION:  \nVi avslutter året med Julequiz på Nordstjerna i Uvdal! \nFredag 16 desember kl. 19.00\nSalg av kaffe/te\, kake\, brus og popkorn\nTa med venner\, familie og lag gjerne et lag. \nVelkommen
URL:https://uvdal.no/arrangement/julequiz-pa-nordstjerna-grendehus/
LOCATION:Nordstjerna Grendehus\, Uvdalsvegen 966\, Uvdal\, 3632\, Norge
ATTACH;FMTTYPE=image/jpeg:https://uvdal.no/wp-content/uploads/2022/12/Juleqiz-Nordstjerna.jpg
END:VEVENT
END:VCALENDAR