BEGIN:VCALENDAR
VERSION:2.0
PRODID:-//Uvdal - ECPv6.15.20//NONSGML v1.0//EN
CALSCALE:GREGORIAN
METHOD:PUBLISH
X-WR-CALNAME:Uvdal
X-ORIGINAL-URL:https://uvdal.no
X-WR-CALDESC:Arrangement for Uvdal
REFRESH-INTERVAL;VALUE=DURATION:PT1H
X-Robots-Tag:noindex
X-PUBLISHED-TTL:PT1H
BEGIN:VTIMEZONE
TZID:Europe/Oslo
BEGIN:DAYLIGHT
TZOFFSETFROM:+0100
TZOFFSETTO:+0200
TZNAME:CEST
DTSTART:20210328T010000
END:DAYLIGHT
BEGIN:STANDARD
TZOFFSETFROM:+0200
TZOFFSETTO:+0100
TZNAME:CET
DTSTART:20211031T010000
END:STANDARD
BEGIN:DAYLIGHT
TZOFFSETFROM:+0100
TZOFFSETTO:+0200
TZNAME:CEST
DTSTART:20220327T010000
END:DAYLIGHT
BEGIN:STANDARD
TZOFFSETFROM:+0200
TZOFFSETTO:+0100
TZNAME:CET
DTSTART:20221030T010000
END:STANDARD
BEGIN:DAYLIGHT
TZOFFSETFROM:+0100
TZOFFSETTO:+0200
TZNAME:CEST
DTSTART:20230326T010000
END:DAYLIGHT
BEGIN:STANDARD
TZOFFSETFROM:+0200
TZOFFSETTO:+0100
TZNAME:CET
DTSTART:20231029T010000
END:STANDARD
END:VTIMEZONE
BEGIN:VEVENT
DTSTART;TZID=Europe/Oslo:20221215T190000
DTEND;TZID=Europe/Oslo:20221215T190000
DTSTAMP:20260426T031247
CREATED:20221111T081156Z
LAST-MODIFIED:20221213T101948Z
UID:4356-1671130800-1671130800@uvdal.no
SUMMARY:Julekonsert med Søll i Tunhovd kirke
DESCRIPTION:Tunhovd menighetsråd har gleden av å invitere til julekonsert med lokalbandet Søll.\n\nSøll er gruppa bak 2019’s innspilling av Numedalssongen.\nMed folkemusikk og sterke røtter i Numedal\, fremfører de sanger og forteller om dalføret sitt. Navnet Søll viser til at gruppa er en god blanding (som i brødsøll\, blåbærsøll og ystingsøll); både musikalsk og geografisk i Numedal.\n\nTil Tunhovd kirke tar de med seg kjente og kjære julesanger\, folkemusikk og selvfølgelig Numedalssongen.\n\nMedlemmer i Søll:\n(som deltar på konserten i Tunhovd kirke)\nSigrid Fossan (vokal)\nÅshild Wetterhus (kraviklyre)\nBirgit Kollandsrud Friis (sjøfløyte)\nLars-Erik Brevig (tangenter og orgelbass)\n\nBilletter kjøpes ved inngang\n(kontant eller vipps):\nVoksen: 100 kr\nBarn: Gratis\n\nPåmelding:\nMail: lindborgv@gmail.com\nTlf: 90732604
URL:https://uvdal.no/arrangement/julekonsert-med-soll-i-tunhovd-kirke/
LOCATION:Tunhovd kirke
ATTACH;FMTTYPE=image/jpeg:https://uvdal.no/wp-content/uploads/2022/11/Julekonsert-med-Solv-2.jpg
END:VEVENT
END:VCALENDAR