BEGIN:VCALENDAR
VERSION:2.0
PRODID:-//Uvdal - ECPv6.15.20//NONSGML v1.0//EN
CALSCALE:GREGORIAN
METHOD:PUBLISH
X-ORIGINAL-URL:https://uvdal.no
X-WR-CALDESC:Arrangement for Uvdal
REFRESH-INTERVAL;VALUE=DURATION:PT1H
X-Robots-Tag:noindex
X-PUBLISHED-TTL:PT1H
BEGIN:VTIMEZONE
TZID:Europe/Oslo
BEGIN:DAYLIGHT
TZOFFSETFROM:+0100
TZOFFSETTO:+0200
TZNAME:CEST
DTSTART:20210328T010000
END:DAYLIGHT
BEGIN:STANDARD
TZOFFSETFROM:+0200
TZOFFSETTO:+0100
TZNAME:CET
DTSTART:20211031T010000
END:STANDARD
BEGIN:DAYLIGHT
TZOFFSETFROM:+0100
TZOFFSETTO:+0200
TZNAME:CEST
DTSTART:20220327T010000
END:DAYLIGHT
BEGIN:STANDARD
TZOFFSETFROM:+0200
TZOFFSETTO:+0100
TZNAME:CET
DTSTART:20221030T010000
END:STANDARD
BEGIN:DAYLIGHT
TZOFFSETFROM:+0100
TZOFFSETTO:+0200
TZNAME:CEST
DTSTART:20230326T010000
END:DAYLIGHT
BEGIN:STANDARD
TZOFFSETFROM:+0200
TZOFFSETTO:+0100
TZNAME:CET
DTSTART:20231029T010000
END:STANDARD
END:VTIMEZONE
BEGIN:VEVENT
DTSTART;VALUE=DATE:20221203
DTEND;VALUE=DATE:20221205
DTSTAMP:20260426T031530
CREATED:20221024T082345Z
LAST-MODIFIED:20221024T082345Z
UID:4143-1670025600-1670198399@uvdal.no
SUMMARY:Førjulshelger på Langedrag
DESCRIPTION:Magiske adventshelger på Langedrag. \n  \nHver helg fra og med 26 – 27.november er det ekstra julestemning på Langedrag.\nHele gården er pyntet til jul og vi er klare for å levere magisk julestemning til alle besøkende.\nVi spiller julemusikk og har juleverksted for alle besøkende\, og dere kan lage ull-engler og kubbe-nisser! \nKjøp Inngangsbillett her på Langedrag \n\n\n\nNissespill på Låven\nLørdager er det Nissespill på Låven. Da møter Santa Klaus (julenissen) Fjøsnissen!\nHvem er egentlig den ekte nissen? – kom for å se hva som skjer når de møtes! \nEtter spillet får man kjøpt grøt på låven – både risengrynsgrøt og semulegrøt. \nJuletur på slede\nHva gir vel bedre julestemning enn å sitte på hestesleden med dombjeller og fakler?\nFredager og lørdager kan man bestille seg en tur med hest og slede – Kanefart. \nMan kan også sitte på slede bak spreke alaska huskyer innover høyfjellet.\nDet å ferdes lydløst i fantastisk vinterlandskap er en mektig opplevelse man sent glemmer. \n(Begge disse aktivitetene er avhengige av nok snø) \n\n\n\n\nInngangsbilletter og aktiviteter kan du kjøpe her\n\n\n\n\nOvernatting \nFor overnattingsgjester er det i tillegg historiefortelling foran peisen\, pepperkakebaking og stell og kos hos dyrene. \nPriser for to døgn fra:\nVoksne (over 16 år): 3100\,- pr pers\nUngdom (9-15 år): 2700\,- pr pers\nBarn (2-8år): 2430\,- pr pers\n(For standardrom) \nInkludert i overnatting er inngang til parken (både ankomstdag og avreisedag)\, 3 retters middag\, frokostbuffet\, lunsjpakke og deltagelse i morgenstell og kveldstell med dyrene. Dere får også være med inn til reinsdyr\, elg og fjellrev og være med på foring av ulv og gaupe.\nLegg deg til ulvenes uling og stå opp til hanegal! \n\n\n\n\nAktiviteter\nI tillegg til de mer julete aktivitetene er det også mulighet til å møte Nordens største kattedyr – Gaupa.\nBli med inn til disse flotte dyrene for å lære om deres atferd og få magiske øyeblikk inne hos Gaupene.\nGaupegårdbesøk kan du booke her. \nMan kan også møte våre fantastiske ulver. Her får man lære og oppleve ulvens kroppsspråk svært nærme.\nDette er en stor opplevelse som garantert vil sette spor.\nUlvegårdsbesøk kan du booke her. \nFor besøk hos ulv og gaupe er det 15.års aldersgrense. \nFor de under 15 år (og voksne) kan derimot et besøk inne hos fjellrevene og rødreven være en stor suksess.\nHer får man møte den rødlista arten fjellrev (også kalt polarrev) og rødrev.\nRevecamp kan du booke her. \n\n 
URL:https://uvdal.no/arrangement/forjulshelger-pa-langedrag-2/
LOCATION:Langedrag Naturpark\, Tunhovd\, 3544
ATTACH;FMTTYPE=image/jpeg:https://uvdal.no/wp-content/uploads/2022/10/langedrag-scaled.jpg
ORGANIZER;CN="Langedrag Naturpark":MAILTO:post@langedrag.no
END:VEVENT
BEGIN:VEVENT
DTSTART;TZID=Europe/Oslo:20221203T100000
DTEND;TZID=Europe/Oslo:20221203T100000
DTSTAMP:20260426T031530
CREATED:20221024T081031Z
LAST-MODIFIED:20221201T111940Z
UID:4132-1670061600-1670061600@uvdal.no
SUMMARY:Juleshow og julemarked  på Langedrag
DESCRIPTION:Velkommen til Langedrag!\n  \n\n\n\n\n\n\n\n\n\n\nLangedrag har i mange år arrangert juleshow med julemarked\, hvor alle billettinntektene doneres til et veldedig formål. Dette er noe vi synes er viktig og veldig givende og som vi setter stor pris på å få gjennomføre.\nPengene vil i år gå til å arrangere «Alternativ julefeiring» for Fattighuset i Oslo og Marita Stiftelsen. Langedrag har også satt hele gården til disposisjon til «Alternativ julefeiring» og stengt huset for annen overnatting denne helga.\nDette er vårt bidrag til å skape en litt triveligere jul\n\nDagen er fullspekket med magiske opplevelser for store og små. Det er Nissespill og nissegrøt på Låven\, du kan ta familiebilder med reinsdyra\, stort juleshow på ridebanen og masse gode julemarkeds-boder. Denne dagen setter dere i den uforglemmelig\, magiske julestemningen for store og små!\nDet er åpent for overnatting om dere vil bruke hele helgen til å skape den magiske julestemningen med opplevelser som setter spor – hos store og små .\n\nNissespill på Låven:\nHvert år møtes Fjøsnissen og Santa Claus på låven\, når Santa Claus er innom Langedrag for å se til reinsdyrene sine. Fjøsnissen synes dette er noe rare greier\, for er det ikke han som er Julenissen? Hmm.. Hvem er egentlig den ekte julenissen? Dette skaper undring\, nysgjerrighet og latter\, og det hele avsluttes godt med Nissegrøt til alle .\nJuleshow på ridebanen:\nRødnissene og Blånissene kommer over de syv blåner og møtes til årets store konkurranse på ridebanen. Det blir en rekke konkurranser på hest og en stor dyreparade. Hvem heier du på?\n\nProgram for dagen:\n07:00 – 19:00: Dyretunet er åpent (for overnattingsgjester)\n07:30 – 08:15: Morgenstell i fjøset eller i hundegård (for overnattingsgjester)\n08:30: Frokost for overnattingsgjester\n10:00 – 18:00: Parken åpner*\n10:00 – 12:00: Hundekjøring*\n10:00 – 11:00: 1 times ridetur*\n11:00 – 12:00: 1 times ridetur*\n10:00 – 15:00: Dyrepasser for en dag*\n11:00 – 17:00: Julemarkedsboder åpner\n11:00 – 17:00: Grill pinnebrød på bål (kjøp deig i kafeen eller ta med selv)\n11:00 – 17:00: Juleverksted i Nystugu\n11:00 – 11:30: Bildetaking med reinsdyr\n11:00 – 12:00: Runderidning på hest/snørekjøring*\n11:00 – 12:00: 1 times ridetur*\n11:30 – 12:10: Gaupegårdsbesøk*\n11:45 – 12:15: Nissespill på låven (for overnattingsgjester)\n12:30 – 13:00: Nissespill på låven* (for alle)\n13:15 – 14:00: Juleshow på ridebanen\n14:00 – 15:00: Foring av ulv\, gaupe\, fjellrev og rødrev\n15:30 – 16:00: Foring av elg\n15:30 – 16:30: Runderidning på hest/snørekjøring*\n15:30 – 16:30: Ulvegårdsbesøk*\n15:30 – 16:00: Revecamp*\n16:00 – 17:00: Kanefart*\n16:30 – 17:15: Kveldsstell i fjøset\n16:30 – 17:00: Huskycamp*\n*Billett kan kjøpes på nett eller i resepsjonen\n\nForeløpige boder:\n-Langedrag Naturpark: Lapper\, smørprim\, gårdsoster og pinnebrøddeig.\n-Oppheim Gård: Gode matvarer fra lam og sau.\n-Bohemian Horse: Utstyr til hest og rytter\n-Bjørn Ola Sveen Volden: Foto\n-Brødrene Karstensen: Surdeigs-flattbrød og oliven såper\n-Therese Lund Grøndalen: Pannebånd og votter\n-Crochet_hekletroll: Hekledyr\nOm du ønsker å være utstiller\, ta kontakt på: marthe@langedrag.no\n\n\nVi gleder oss til en magisk førjulshelg med deg!\n\n\n\n\n\n\n\n\n\n\n\n\n\n\n\n\n\n\n*Billetter kjøpes i resepsjon eller online
URL:https://uvdal.no/arrangement/juleshow-pa-langedrag/
LOCATION:Langedrag Naturpark\, Tunhovd\, 3544
ATTACH;FMTTYPE=image/jpeg:https://uvdal.no/wp-content/uploads/2022/10/Juleshow-pa-Langedrag-lordag.jpg
ORGANIZER;CN="Langedrag Naturpark":MAILTO:post@langedrag.no
END:VEVENT
BEGIN:VEVENT
DTSTART;TZID=Europe/Oslo:20221203T100000
DTEND;TZID=Europe/Oslo:20221203T100000
DTSTAMP:20260426T031530
CREATED:20221129T103525Z
LAST-MODIFIED:20221129T110900Z
UID:4654-1670061600-1670061600@uvdal.no
SUMMARY:Sesongåpning i Uvdal Skisenter
DESCRIPTION:Velkommen til ny sesong ! \nUvdal Skisenter gleder seg til ny sesong og åpner endelig lørdag 3. desember kl. 10.00. \nHvilke bakker og områder som blir åpnet kan du følge med på Facebook her når det nærmer seg sesongstart. \nFor mer info om Skisenter\, Lavvo og Epic Boardshop se her \n 
URL:https://uvdal.no/arrangement/sesongapning-i-uvdal-skisenter/
LOCATION:Uvdal Skisenter\, Uvdal\, 3632\, Norge
ATTACH;FMTTYPE=image/jpeg:https://uvdal.no/wp-content/uploads/2022/11/VB-Skisenter-scaled.jpeg
END:VEVENT
BEGIN:VEVENT
DTSTART;TZID=Europe/Oslo:20221203T120000
DTEND;TZID=Europe/Oslo:20221203T160000
DTSTAMP:20260426T031530
CREATED:20221107T103350Z
LAST-MODIFIED:20221111T110524Z
UID:4290-1670068800-1670083200@uvdal.no
SUMMARY:Julemarked
DESCRIPTION:Nordstjerna Ungdomslag vil arrangere Julemarked\n\n\n\n\n\n\n\nDet blir Julemarked på Nordstjerna i Uvdal 3 des. fra KL 12.00-16.00.\nHer har du mulighet til å kjøpe julegave og  julebakst.\nHjemmelagde/strikkede varer\nPynt til jula el ellers i året og mer til.\nNordstjerna vil selv ha Lynlotteri\, vinner man\, får man premie med en gang.\nKiosk med salg av kaffe/te\, brus og vaffel.\nHåper dere tar turen i førjulstiden.\nVelkommen
URL:https://uvdal.no/arrangement/julemarked/
LOCATION:Nordstjerna\, Uvdal
ATTACH;FMTTYPE=image/jpeg:https://uvdal.no/wp-content/uploads/2022/11/Nordstjerna-med-julemarked.jpg
END:VEVENT
END:VCALENDAR